BEGIN:VCALENDAR
VERSION:2.0
PRODID:-//Oro Valley Historical Society - ECPv6.11.1//NONSGML v1.0//EN
CALSCALE:GREGORIAN
METHOD:PUBLISH
X-WR-CALNAME:Oro Valley Historical Society
X-ORIGINAL-URL:https://ovhistory.org
X-WR-CALDESC:Events for Oro Valley Historical Society
REFRESH-INTERVAL;VALUE=DURATION:PT1H
X-Robots-Tag:noindex
X-PUBLISHED-TTL:PT1H
BEGIN:VTIMEZONE
TZID:America/Chicago
BEGIN:DAYLIGHT
TZOFFSETFROM:-0600
TZOFFSETTO:-0500
TZNAME:CDT
DTSTART:20260308T080000
END:DAYLIGHT
BEGIN:STANDARD
TZOFFSETFROM:-0500
TZOFFSETTO:-0600
TZNAME:CST
DTSTART:20261101T070000
END:STANDARD
END:VTIMEZONE
BEGIN:VEVENT
DTSTART;TZID=America/Chicago:20260423T140000
DTEND;TZID=America/Chicago:20260423T170000
DTSTAMP:20260419T075710
CREATED:20251002T232004Z
LAST-MODIFIED:20260227T003134Z
UID:10000506-1776952800-1776963600@ovhistory.org
SUMMARY:Oro Valley Historical Society Board Meeting
DESCRIPTION:OVHS Board Meetings are open to the public and are usually held the 4th Thursday of every month at 2:00pm at the Pusch House Museum at Steam Pump Ranch. \nAll are welcome to bring your ideas for exhibits\, fundraisers\, community engagement\, and how to Keep Oro Valley History Alive! \nMeet OVHS President\, Bob Kellar! \nWelcome to Oro Valley\, Arizona! \nMeet our Board of Directors & Committee Chairs.
URL:https://ovhistory.org/event/oro-valley-historical-society-board-meeting-4/2026-04-23/
LOCATION:Pusch House Museum at Steam Pump Ranch\, 10901 N. Oracle Rd.\, Oro Valley\, AZ\, 85737\, United States
CATEGORIES:Board Meetings
ATTACH;FMTTYPE=image/jpeg:https://ovhistory.org/wp-content/uploads/2025/04/Board-Meeting-Logo-1.jpg
END:VEVENT
BEGIN:VEVENT
DTSTART;TZID=America/Chicago:20260425T090000
DTEND;TZID=America/Chicago:20260425T120000
DTSTAMP:20260419T075710
CREATED:20251125T194337Z
LAST-MODIFIED:20251125T194337Z
UID:10000548-1777107600-1777118400@ovhistory.org
SUMMARY:Semiquincentennial and Town of Oro Valley
DESCRIPTION:Trace the nation’s evolution from 1901 to today and see how those sweeping changes set the stage for the founding of Oro Valley. From ranching roots to a thriving town\, explore the local stories that connect us to the broader American experience as we mark 250 years of U.S. history.
URL:https://ovhistory.org/event/semiquincentennial-and-town-of-oro-valley/2026-04-25/
LOCATION:Pusch House Museum at Steam Pump Ranch\, 10901 N. Oracle Rd.\, Oro Valley\, AZ\, 85737\, United States
CATEGORIES:Exhibits
ATTACH;FMTTYPE=image/png:https://ovhistory.org/wp-content/uploads/2025/11/Oro-Valley-Seal-Logo.png
END:VEVENT
BEGIN:VEVENT
DTSTART;TZID=America/Chicago:20260528T140000
DTEND;TZID=America/Chicago:20260528T170000
DTSTAMP:20260419T075710
CREATED:20251002T232004Z
LAST-MODIFIED:20260227T003134Z
UID:10000507-1779976800-1779987600@ovhistory.org
SUMMARY:Oro Valley Historical Society Board Meeting
DESCRIPTION:OVHS Board Meetings are open to the public and are usually held the 4th Thursday of every month at 2:00pm at the Pusch House Museum at Steam Pump Ranch. \nAll are welcome to bring your ideas for exhibits\, fundraisers\, community engagement\, and how to Keep Oro Valley History Alive! \nMeet OVHS President\, Bob Kellar! \nWelcome to Oro Valley\, Arizona! \nMeet our Board of Directors & Committee Chairs.
URL:https://ovhistory.org/event/oro-valley-historical-society-board-meeting-4/2026-05-28/
LOCATION:Pusch House Museum at Steam Pump Ranch\, 10901 N. Oracle Rd.\, Oro Valley\, AZ\, 85737\, United States
CATEGORIES:Board Meetings
ATTACH;FMTTYPE=image/jpeg:https://ovhistory.org/wp-content/uploads/2025/04/Board-Meeting-Logo-1.jpg
END:VEVENT
BEGIN:VEVENT
DTSTART;TZID=America/Chicago:20260625T140000
DTEND;TZID=America/Chicago:20260625T170000
DTSTAMP:20260419T075710
CREATED:20251002T232004Z
LAST-MODIFIED:20260227T003134Z
UID:10000508-1782396000-1782406800@ovhistory.org
SUMMARY:Oro Valley Historical Society Board Meeting
DESCRIPTION:OVHS Board Meetings are open to the public and are usually held the 4th Thursday of every month at 2:00pm at the Pusch House Museum at Steam Pump Ranch. \nAll are welcome to bring your ideas for exhibits\, fundraisers\, community engagement\, and how to Keep Oro Valley History Alive! \nMeet OVHS President\, Bob Kellar! \nWelcome to Oro Valley\, Arizona! \nMeet our Board of Directors & Committee Chairs.
URL:https://ovhistory.org/event/oro-valley-historical-society-board-meeting-4/2026-06-25/
LOCATION:Pusch House Museum at Steam Pump Ranch\, 10901 N. Oracle Rd.\, Oro Valley\, AZ\, 85737\, United States
CATEGORIES:Board Meetings
ATTACH;FMTTYPE=image/jpeg:https://ovhistory.org/wp-content/uploads/2025/04/Board-Meeting-Logo-1.jpg
END:VEVENT
BEGIN:VEVENT
DTSTART;TZID=America/Chicago:20260723T140000
DTEND;TZID=America/Chicago:20260723T170000
DTSTAMP:20260419T075710
CREATED:20251002T232004Z
LAST-MODIFIED:20260227T003134Z
UID:10000509-1784815200-1784826000@ovhistory.org
SUMMARY:Oro Valley Historical Society Board Meeting
DESCRIPTION:OVHS Board Meetings are open to the public and are usually held the 4th Thursday of every month at 2:00pm at the Pusch House Museum at Steam Pump Ranch. \nAll are welcome to bring your ideas for exhibits\, fundraisers\, community engagement\, and how to Keep Oro Valley History Alive! \nMeet OVHS President\, Bob Kellar! \nWelcome to Oro Valley\, Arizona! \nMeet our Board of Directors & Committee Chairs.
URL:https://ovhistory.org/event/oro-valley-historical-society-board-meeting-4/2026-07-23/
LOCATION:Pusch House Museum at Steam Pump Ranch\, 10901 N. Oracle Rd.\, Oro Valley\, AZ\, 85737\, United States
CATEGORIES:Board Meetings
ATTACH;FMTTYPE=image/jpeg:https://ovhistory.org/wp-content/uploads/2025/04/Board-Meeting-Logo-1.jpg
END:VEVENT
BEGIN:VEVENT
DTSTART;TZID=America/Chicago:20260827T140000
DTEND;TZID=America/Chicago:20260827T170000
DTSTAMP:20260419T075710
CREATED:20251002T232004Z
LAST-MODIFIED:20260227T003134Z
UID:10000510-1787839200-1787850000@ovhistory.org
SUMMARY:Oro Valley Historical Society Board Meeting
DESCRIPTION:OVHS Board Meetings are open to the public and are usually held the 4th Thursday of every month at 2:00pm at the Pusch House Museum at Steam Pump Ranch. \nAll are welcome to bring your ideas for exhibits\, fundraisers\, community engagement\, and how to Keep Oro Valley History Alive! \nMeet OVHS President\, Bob Kellar! \nWelcome to Oro Valley\, Arizona! \nMeet our Board of Directors & Committee Chairs.
URL:https://ovhistory.org/event/oro-valley-historical-society-board-meeting-4/2026-08-27/
LOCATION:Pusch House Museum at Steam Pump Ranch\, 10901 N. Oracle Rd.\, Oro Valley\, AZ\, 85737\, United States
CATEGORIES:Board Meetings
ATTACH;FMTTYPE=image/jpeg:https://ovhistory.org/wp-content/uploads/2025/04/Board-Meeting-Logo-1.jpg
END:VEVENT
BEGIN:VEVENT
DTSTART;TZID=America/Chicago:20260924T140000
DTEND;TZID=America/Chicago:20260924T170000
DTSTAMP:20260419T075710
CREATED:20251002T232004Z
LAST-MODIFIED:20260227T003134Z
UID:10000511-1790258400-1790269200@ovhistory.org
SUMMARY:Oro Valley Historical Society Board Meeting
DESCRIPTION:OVHS Board Meetings are open to the public and are usually held the 4th Thursday of every month at 2:00pm at the Pusch House Museum at Steam Pump Ranch. \nAll are welcome to bring your ideas for exhibits\, fundraisers\, community engagement\, and how to Keep Oro Valley History Alive! \nMeet OVHS President\, Bob Kellar! \nWelcome to Oro Valley\, Arizona! \nMeet our Board of Directors & Committee Chairs.
URL:https://ovhistory.org/event/oro-valley-historical-society-board-meeting-4/2026-09-24/
LOCATION:Pusch House Museum at Steam Pump Ranch\, 10901 N. Oracle Rd.\, Oro Valley\, AZ\, 85737\, United States
CATEGORIES:Board Meetings
ATTACH;FMTTYPE=image/jpeg:https://ovhistory.org/wp-content/uploads/2025/04/Board-Meeting-Logo-1.jpg
END:VEVENT
BEGIN:VEVENT
DTSTART;TZID=America/Chicago:20261022T140000
DTEND;TZID=America/Chicago:20261022T170000
DTSTAMP:20260419T075710
CREATED:20251002T232004Z
LAST-MODIFIED:20260227T003134Z
UID:10000512-1792677600-1792688400@ovhistory.org
SUMMARY:Oro Valley Historical Society Board Meeting
DESCRIPTION:OVHS Board Meetings are open to the public and are usually held the 4th Thursday of every month at 2:00pm at the Pusch House Museum at Steam Pump Ranch. \nAll are welcome to bring your ideas for exhibits\, fundraisers\, community engagement\, and how to Keep Oro Valley History Alive! \nMeet OVHS President\, Bob Kellar! \nWelcome to Oro Valley\, Arizona! \nMeet our Board of Directors & Committee Chairs.
URL:https://ovhistory.org/event/oro-valley-historical-society-board-meeting-4/2026-10-22/
LOCATION:Pusch House Museum at Steam Pump Ranch\, 10901 N. Oracle Rd.\, Oro Valley\, AZ\, 85737\, United States
CATEGORIES:Board Meetings
ATTACH;FMTTYPE=image/jpeg:https://ovhistory.org/wp-content/uploads/2025/04/Board-Meeting-Logo-1.jpg
END:VEVENT
END:VCALENDAR